BEGIN:VCALENDAR
VERSION:2.0
METHOD:PUBLISH
X-WR-CALNAME;VALUE=TEXT:
PRODID:-//Drupal iCal API//EN
BEGIN:VEVENT
2014-03-31 05:00:00 AEDT
2014-03-31 06:30:00 AEDT
DTSTART:20140330T180000Z
DTEND:20140330T193000Z
SUMMARY:Blindness Visible: Law, Time, and Bruegel&#039;s justice
UID:87975294-6c24-4e60-9d0e-b2283354c62e
URL:https://slll.cass.anu.edu.au/events/blindness-visible-law-time-and-bruegels-justice
END:VEVENT
END:VCALENDAR
