BEGIN:VCALENDAR
VERSION:2.0
METHOD:PUBLISH
X-WR-CALNAME;VALUE=TEXT:
PRODID:-//Drupal iCal API//EN
BEGIN:VEVENT
2014-04-28 06:00:00 AEST
2014-04-28 07:30:00 AEST
DTSTART:20140427T200000Z
DTEND:20140427T213000Z
SUMMARY:Ancient Rome in Silent Cinema
UID:f8d67a17-0a38-4f02-87ea-4b8ec267b971
URL:https://slll.cass.anu.edu.au/events/ancient-rome-silent-cinema
END:VEVENT
END:VCALENDAR
