BEGIN:VCALENDAR
VERSION:2.0
METHOD:PUBLISH
X-WR-CALNAME;VALUE=TEXT:
PRODID:-//Drupal iCal API//EN
BEGIN:VEVENT
2014-05-15 10:00:00 AEST
2014-05-15 11:00:00 AEST
DTSTART:20140515T000000Z
DTEND:20140515T010000Z
SUMMARY:Cake or Death: The Beneficence of Hades
UID:d120dec3-73ab-4908-9b05-8fdf75ebf3b5
URL:https://slll.cass.anu.edu.au/events/cake-or-death-beneficence-hades
END:VEVENT
END:VCALENDAR
