BEGIN:VCALENDAR
VERSION:2.0
METHOD:PUBLISH
X-WR-CALNAME;VALUE=TEXT:
PRODID:-//Drupal iCal API//EN
BEGIN:VEVENT
2014-05-21 06:15:00 AEST
2014-05-21 07:15:00 AEST
DTSTART:20140520T201500Z
DTEND:20140520T211500Z
SUMMARY:Portuguese Online – a complex enterprise between Indiana and ANU
UID:35cc69a4-a93d-4b54-ad6e-da8ac6f7ae13
URL:https://slll.cass.anu.edu.au/events/portuguese-online-complex-enterprise-between-indiana-and-anu
END:VEVENT
END:VCALENDAR
