BEGIN:VCALENDAR
VERSION:2.0
METHOD:PUBLISH
X-WR-CALNAME;VALUE=TEXT:
PRODID:-//Drupal iCal API//EN
BEGIN:VEVENT
2014-05-29 03:00:00 AEST
2014-05-29 04:00:00 AEST
DTSTART:20140528T170000Z
DTEND:20140528T180000Z
SUMMARY:On scholarly subjectivity and the possibility of a poetics there
UID:1942854b-d83d-4051-8c3c-364d220161f8
URL:https://slll.cass.anu.edu.au/events/scholarly-subjectivity-and-possibility-poetics-there
END:VEVENT
END:VCALENDAR
