BEGIN:VCALENDAR
VERSION:2.0
METHOD:PUBLISH
X-WR-CALNAME;VALUE=TEXT:
PRODID:-//Drupal iCal API//EN
BEGIN:VEVENT
2014-06-11 06:00:00 AEST
2014-06-11 07:30:00 AEST
DTSTART:20140610T200000Z
DTEND:20140610T213000Z
SUMMARY:Modularity from the bilingual perspective: Crosslinguistic influence, feature reassembly and functional convergence
UID:d9779813-5a59-4178-aff6-1b4644a18d3a
URL:https://slll.cass.anu.edu.au/events/modularity-bilingual-perspective-crosslinguistic-influence-feature-reassembly-and
END:VEVENT
END:VCALENDAR
