BEGIN:VCALENDAR
VERSION:2.0
METHOD:PUBLISH
X-WR-CALNAME;VALUE=TEXT:
PRODID:-//Drupal iCal API//EN
BEGIN:VEVENT
2014-07-23 06:15:00 AEST
2014-07-23 06:15:00 AEST
DTSTART:20140722T201500Z
DTEND:20140722T201500Z
SUMMARY:The Event Panorama: Linking SVCs in White Hmong
UID:37a3714d-d43f-4413-960c-da6b81834dbe
URL:https://slll.cass.anu.edu.au/events/event-panorama-linking-svcs-white-hmong
END:VEVENT
END:VCALENDAR
