BEGIN:VCALENDAR
VERSION:2.0
METHOD:PUBLISH
X-WR-CALNAME;VALUE=TEXT:
PRODID:-//Drupal iCal API//EN
BEGIN:VEVENT
2014-07-03 04:00:00 AEST
2014-07-03 05:00:00 AEST
DTSTART:20140702T180000Z
DTEND:20140702T190000Z
SUMMARY:Romance Languages in the Antipodes (RomLA)
UID:32d868cd-1d67-4e29-aa40-4a28702fdda6
URL:https://slll.cass.anu.edu.au/events/romance-languages-antipodes-romla
END:VEVENT
END:VCALENDAR
