BEGIN:VCALENDAR
VERSION:2.0
METHOD:PUBLISH
X-WR-CALNAME;VALUE=TEXT:
PRODID:-//Drupal iCal API//EN
BEGIN:VEVENT
2014-08-06 06:15:00 AEST
2014-08-06 07:15:00 AEST
DTSTART:20140805T201500Z
DTEND:20140805T211500Z
SUMMARY:Persian Language Online - Obstacles and Opportunities
UID:8c5b3a2b-8220-4db6-b4f1-c956fc6dbc97
URL:https://slll.cass.anu.edu.au/events/persian-language-online-obstacles-and-opportunities
END:VEVENT
END:VCALENDAR
