BEGIN:VCALENDAR
VERSION:2.0
METHOD:PUBLISH
X-WR-CALNAME;VALUE=TEXT:
PRODID:-//Drupal iCal API//EN
BEGIN:VEVENT
2014-08-13 06:00:00 AEST
2014-08-13 07:00:00 AEST
DTSTART:20140812T200000Z
DTEND:20140812T210000Z
SUMMARY:Languages encroaching from the desert in northern Australia
UID:4d40a9e9-6ff0-41e9-9a12-ea0fbb563c3a
URL:https://slll.cass.anu.edu.au/events/languages-encroaching-desert-northern-australia
END:VEVENT
END:VCALENDAR
