BEGIN:VCALENDAR
VERSION:2.0
METHOD:PUBLISH
X-WR-CALNAME;VALUE=TEXT:
PRODID:-//Drupal iCal API//EN
BEGIN:VEVENT
2014-09-01 06:00:00 AEST
2014-09-01 07:30:00 AEST
DTSTART:20140831T200000Z
DTEND:20140831T213000Z
SUMMARY:Cultural Infrastructure, Creative Networks and the Cinema
UID:4b4013d4-a510-40c8-be22-cd78538eb10f
URL:https://slll.cass.anu.edu.au/events/cultural-infrastructure-creative-networks-and-cinema
END:VEVENT
END:VCALENDAR
