BEGIN:VCALENDAR
VERSION:2.0
METHOD:PUBLISH
X-WR-CALNAME;VALUE=TEXT:
PRODID:-//Drupal iCal API//EN
BEGIN:VEVENT
2014-09-22 06:00:00 AEST
2014-09-22 07:30:00 AEST
DTSTART:20140921T200000Z
DTEND:20140921T213000Z
SUMMARY:Artworks at the Australian National University
UID:74d7f1bf-aec8-430a-9365-c17bfd8ab009
URL:https://slll.cass.anu.edu.au/events/artworks-australian-national-university
END:VEVENT
END:VCALENDAR
