BEGIN:VCALENDAR
VERSION:2.0
METHOD:PUBLISH
X-WR-CALNAME;VALUE=TEXT:
PRODID:-//Drupal iCal API//EN
BEGIN:VEVENT
2014-10-08 05:00:00 AEDT
2014-10-08 06:00:00 AEDT
DTSTART:20141007T180000Z
DTEND:20141007T190000Z
SUMMARY:Information Session: Honours in English &amp; Drama 2015
UID:deca1e35-99f6-44d4-88a0-da761518af84
URL:https://slll.cass.anu.edu.au/events/information-session-honours-english-drama-2015
END:VEVENT
END:VCALENDAR
