BEGIN:VCALENDAR
VERSION:2.0
METHOD:PUBLISH
X-WR-CALNAME;VALUE=TEXT:
PRODID:-//Drupal iCal API//EN
BEGIN:VEVENT
2014-10-27 05:00:00 AEDT
2014-10-27 06:00:00 AEDT
DTSTART:20141026T180000Z
DTEND:20141026T190000Z
SUMMARY:An Artistic Anthropology? Beginning with Reverie
UID:7c801bc4-e528-470d-8241-403c818617ac
URL:https://slll.cass.anu.edu.au/events/artistic-anthropology-beginning-reverie
END:VEVENT
END:VCALENDAR
