BEGIN:VCALENDAR
VERSION:2.0
METHOD:PUBLISH
X-WR-CALNAME;VALUE=TEXT:
PRODID:-//Drupal iCal API//EN
BEGIN:VEVENT
2015-03-19 02:00:00 AEDT
2015-03-19 03:30:00 AEDT
DTSTART:20150318T150000Z
DTEND:20150318T163000Z
SUMMARY:When Absence feels like Presence: Affect and Writing Australian Forest Imaginary
UID:6f5687aa-acf2-4f66-9ce1-60144c36d1cb
URL:https://slll.cass.anu.edu.au/events/when-absence-feels-presence-affect-and-writing-australian-forest-imaginary
END:VEVENT
END:VCALENDAR
