BEGIN:VCALENDAR
VERSION:2.0
METHOD:PUBLISH
X-WR-CALNAME;VALUE=TEXT:
PRODID:-//Drupal iCal API//EN
BEGIN:VEVENT
2015-03-20 03:00:00 AEDT
2015-03-20 06:30:00 AEDT
DTSTART:20150320T040000Z
DTEND:20150320T073000Z
SUMMARY:Seminar PT Downunder
UID:ac730a6c-6e0d-472a-8d55-f84a34bd17e8
URL:https://slll.cass.anu.edu.au/events/seminar-pt-downunder
END:VEVENT
END:VCALENDAR
