BEGIN:VCALENDAR
VERSION:2.0
METHOD:PUBLISH
X-WR-CALNAME;VALUE=TEXT:
PRODID:-//Drupal iCal API//EN
BEGIN:VEVENT
2015-03-24 05:00:00 AEDT
2015-03-24 06:30:00 AEDT
DTSTART:20150323T180000Z
DTEND:20150323T193000Z
SUMMARY:How to represent spoken language in written form: Analysing conversational data from James Joyce to Southern Papua New Guinea
UID:e4f04afc-d2e5-4c31-b197-57044c06dd04
URL:https://slll.cass.anu.edu.au/events/how-represent-spoken-language-written-form-analysing-conversational-data-james-joyce
END:VEVENT
END:VCALENDAR
