BEGIN:VCALENDAR
VERSION:2.0
METHOD:PUBLISH
X-WR-CALNAME;VALUE=TEXT:
PRODID:-//Drupal iCal API//EN
BEGIN:VEVENT
2015-04-22 06:00:00 AEST
2015-04-22 07:00:00 AEST
DTSTART:20150421T200000Z
DTEND:20150421T210000Z
SUMMARY:The Expressions for ‘translate’ and ‘interpret’ in the European Languages (Work in Progress)
UID:8602e9c2-13f2-40fe-90c5-e100b5dfd826
URL:https://slll.cass.anu.edu.au/events/expressions-translate-and-interpret-european-languages-work-progress
END:VEVENT
END:VCALENDAR
