BEGIN:VCALENDAR
VERSION:2.0
METHOD:PUBLISH
X-WR-CALNAME;VALUE=TEXT:
PRODID:-//Drupal iCal API//EN
BEGIN:VEVENT
2015-05-04 11:30:00 AEST
2015-05-05 01:30:00 AEST
DTSTART:20150504T133000Z
DTEND:20150504T153000Z
SUMMARY:Write Time (or &#039;Getting ready to write time&#039;)
UID:d6dfe8fa-f4a4-4593-a8c3-4f4e28ac6171
URL:https://slll.cass.anu.edu.au/events/write-time-or-getting-ready-write-time-0
END:VEVENT
END:VCALENDAR
