BEGIN:VCALENDAR
VERSION:2.0
METHOD:PUBLISH
X-WR-CALNAME;VALUE=TEXT:
PRODID:-//Drupal iCal API//EN
BEGIN:VEVENT
2015-06-02 06:00:00 AEST
2015-06-02 07:30:00 AEST
DTSTART:20150601T200000Z
DTEND:20150601T213000Z
SUMMARY:Holocaust Memory as a Global Language: The Case of Indigenous Australian Suffering
UID:ead27a1f-e3a6-4293-b41b-cc0520523c1c
URL:https://slll.cass.anu.edu.au/events/holocaust-memory-global-language-case-indigenous-australian-suffering
END:VEVENT
END:VCALENDAR
