BEGIN:VCALENDAR
VERSION:2.0
METHOD:PUBLISH
X-WR-CALNAME;VALUE=TEXT:
PRODID:-//Drupal iCal API//EN
BEGIN:VEVENT
2015-06-05 02:00:00 AEST
2015-06-05 03:00:00 AEST
DTSTART:20150604T160000Z
DTEND:20150604T170000Z
SUMMARY:The Montage of McOndo
UID:6679a44c-8f8a-41f2-afdd-d599765d1bde
URL:https://slll.cass.anu.edu.au/events/montage-mcondo
END:VEVENT
END:VCALENDAR
