BEGIN:VCALENDAR
VERSION:2.0
METHOD:PUBLISH
X-WR-CALNAME;VALUE=TEXT:
PRODID:-//Drupal iCal API//EN
BEGIN:VEVENT
2015-07-23 03:00:00 AEST
2015-07-23 04:00:00 AEST
DTSTART:20150722T170000Z
DTEND:20150722T180000Z
SUMMARY:Book Club at SLLL
UID:6684b851-1e80-40e5-807a-71ee45f3d751
URL:https://slll.cass.anu.edu.au/events/book-club-slll
END:VEVENT
END:VCALENDAR
