BEGIN:VCALENDAR
VERSION:2.0
METHOD:PUBLISH
X-WR-CALNAME;VALUE=TEXT:
PRODID:-//Drupal iCal API//EN
BEGIN:VEVENT
2015-08-04 06:00:00 AEST
2015-08-04 07:30:00 AEST
DTSTART:20150803T200000Z
DTEND:20150803T213000Z
SUMMARY:Literature and Justice: The Language of Representation
UID:e05e670a-428f-429c-80ab-851fb454dc3f
URL:https://slll.cass.anu.edu.au/events/literature-and-justice-language-representation
END:VEVENT
END:VCALENDAR
