BEGIN:VCALENDAR
VERSION:2.0
METHOD:PUBLISH
X-WR-CALNAME;VALUE=TEXT:
PRODID:-//Drupal iCal API//EN
BEGIN:VEVENT
2015-08-13 03:00:00 AEST
2015-08-13 04:00:00 AEST
DTSTART:20150812T170000Z
DTEND:20150812T180000Z
SUMMARY:Suddenness: On the Speed of Poetic Composition
UID:7f18cc4d-7a04-4cec-b5b9-9304d4afbe1d
URL:https://slll.cass.anu.edu.au/events/suddenness-speed-poetic-composition
END:VEVENT
END:VCALENDAR
