BEGIN:VCALENDAR
VERSION:2.0
METHOD:PUBLISH
X-WR-CALNAME;VALUE=TEXT:
PRODID:-//Drupal iCal API//EN
BEGIN:VEVENT
2015-08-20 03:00:00 AEST
2015-08-20 04:00:00 AEST
DTSTART:20150819T170000Z
DTEND:20150819T180000Z
SUMMARY:Reader Responses to Indigenous Australian Chick Lit
UID:24c0dc9d-9d73-46a7-9067-5bd451bad6e4
URL:https://slll.cass.anu.edu.au/events/reader-responses-indigenous-australian-chick-lit
END:VEVENT
END:VCALENDAR
