BEGIN:VCALENDAR
VERSION:2.0
METHOD:PUBLISH
X-WR-CALNAME;VALUE=TEXT:
PRODID:-//Drupal iCal API//EN
BEGIN:VEVENT
2015-08-24 06:15:00 AEST
2015-08-24 07:15:00 AEST
DTSTART:20150823T201500Z
DTEND:20150823T211500Z
SUMMARY:Language Teaching Forum: Teaching grammar – Why? When? How?
UID:183ef362-b75d-453f-8cf6-fed9ecfad08a
URL:https://slll.cass.anu.edu.au/events/language-teaching-forum-teaching-grammar-why-when-how
END:VEVENT
END:VCALENDAR
