BEGIN:VCALENDAR
VERSION:2.0
METHOD:PUBLISH
X-WR-CALNAME;VALUE=TEXT:
PRODID:-//Drupal iCal API//EN
BEGIN:VEVENT
2015-09-02 07:00:00 AEST
2015-09-02 08:00:00 AEST
DTSTART:20150901T210000Z
DTEND:20150901T220000Z
SUMMARY:Position Doubtful – a work in progress
UID:d4385733-2dbe-4107-83a2-bb5036d83deb
URL:https://slll.cass.anu.edu.au/events/position-doubtful-work-progress
END:VEVENT
END:VCALENDAR
