BEGIN:VCALENDAR
VERSION:2.0
METHOD:PUBLISH
X-WR-CALNAME;VALUE=TEXT:
PRODID:-//Drupal iCal API//EN
BEGIN:VEVENT
2015-09-08 12:00:00 AEST
2015-09-08 05:00:00 AEST
DTSTART:20150907T140000Z
DTEND:20150907T190000Z
SUMMARY:What&#039;s in a language?
UID:245879c0-ac50-47fa-97e1-ae3a1065ebd4
URL:https://slll.cass.anu.edu.au/events/whats-language
END:VEVENT
END:VCALENDAR
