BEGIN:VCALENDAR
VERSION:2.0
METHOD:PUBLISH
X-WR-CALNAME;VALUE=TEXT:
PRODID:-//Drupal iCal API//EN
BEGIN:VEVENT
2015-10-14 12:00:00 AEDT
2015-10-14 01:00:00 AEDT
DTSTART:20151013T130000Z
DTEND:20151013T140000Z
SUMMARY:Info Session: Language Assistants Program in Spain 2016-2017
UID:f58bfb27-4ce0-40ed-b451-0b1b9afc6064
URL:https://slll.cass.anu.edu.au/events/info-session-language-assistants-program-spain-2016-2017
END:VEVENT
END:VCALENDAR
