BEGIN:VCALENDAR
VERSION:2.0
METHOD:PUBLISH
X-WR-CALNAME;VALUE=TEXT:
PRODID:-//Drupal iCal API//EN
BEGIN:VEVENT
2015-10-21 05:00:00 AEDT
2015-10-21 06:00:00 AEDT
DTSTART:20151020T180000Z
DTEND:20151020T190000Z
SUMMARY:A method for mitigating the problem of borrowing in syntactic reconstruction
UID:4dc48eee-1a8a-44b8-84a1-00b2d259bf79
URL:https://slll.cass.anu.edu.au/events/method-mitigating-problem-borrowing-syntactic-reconstruction
END:VEVENT
END:VCALENDAR
