BEGIN:VCALENDAR
VERSION:2.0
METHOD:PUBLISH
X-WR-CALNAME;VALUE=TEXT:
PRODID:-//Drupal iCal API//EN
BEGIN:VEVENT
2015-11-18 03:30:00 AEDT
2015-11-18 06:30:00 AEDT
DTSTART:20151117T163000Z
DTEND:20151117T193000Z
SUMMARY:Upcoming Seminars: Centre for Research into Language Change and COEDL
UID:a95677ef-734f-4b05-9efd-7d2147ea1e3f
URL:https://slll.cass.anu.edu.au/events/upcoming-seminars-centre-research-language-change-and-coedl
END:VEVENT
END:VCALENDAR
