BEGIN:VCALENDAR
VERSION:2.0
METHOD:PUBLISH
X-WR-CALNAME;VALUE=TEXT:
PRODID:-//Drupal iCal API//EN
BEGIN:VEVENT
2015-11-24 02:00:00 AEDT
2015-11-24 03:00:00 AEDT
DTSTART:20151123T150000Z
DTEND:20151123T160000Z
SUMMARY:‘Strange attr‐actors on the early modern stage’
UID:5a3750ae-e2bf-4d6e-bf24-58bb209c894f
URL:https://slll.cass.anu.edu.au/events/strange-attr-actors-early-modern-stage
END:VEVENT
END:VCALENDAR
