BEGIN:VCALENDAR
VERSION:2.0
METHOD:PUBLISH
X-WR-CALNAME;VALUE=TEXT:
PRODID:-//Drupal iCal API//EN
BEGIN:VEVENT
2015-11-26 05:30:00 AEDT
2015-11-27 01:30:00 AEDT
DTSTART:20151125T183000Z
DTEND:20151126T143000Z
SUMMARY:Sydney Speaks Project Workshop, with talks by Barbara Horvath and Gregory Guy
UID:5f769611-ce86-4f0f-98e8-4f5a0130e791
URL:https://slll.cass.anu.edu.au/events/sydney-speaks-project-workshop-talks-barbara-horvath-and-gregory-guy
END:VEVENT
END:VCALENDAR
