BEGIN:VCALENDAR
VERSION:2.0
METHOD:PUBLISH
X-WR-CALNAME;VALUE=TEXT:
PRODID:-//Drupal iCal API//EN
BEGIN:VEVENT
2015-12-18 12:00:00 AEDT
2015-12-18 01:00:00 AEDT
DTSTART:20151217T130000Z
DTEND:20151217T140000Z
SUMMARY:Mapping Australian English:  Reported, Recognised, and Perceived Regional Variation
UID:4fa01aa9-3edf-4993-b66e-d8431331ca40
URL:https://slll.cass.anu.edu.au/events/mapping-australian-english-reported-recognised-and-perceived-regional-variation
END:VEVENT
END:VCALENDAR
