BEGIN:VCALENDAR
VERSION:2.0
METHOD:PUBLISH
X-WR-CALNAME;VALUE=TEXT:
PRODID:-//Drupal iCal API//EN
BEGIN:VEVENT
2016-01-29 04:30:00 AEDT
2016-01-29 05:30:00 AEDT
DTSTART:20160128T173000Z
DTEND:20160128T183000Z
SUMMARY:Language Contact Myths
UID:25580c7d-9cd1-42a5-9767-d51f908b9516
URL:https://slll.cass.anu.edu.au/events/language-contact-myths
END:VEVENT
END:VCALENDAR
