BEGIN:VCALENDAR
VERSION:2.0
METHOD:PUBLISH
X-WR-CALNAME;VALUE=TEXT:
PRODID:-//Drupal iCal API//EN
BEGIN:VEVENT
2016-02-10 11:00:00 AEDT
2016-02-11 12:00:00 AEDT
DTSTART:20160210T120000Z
DTEND:20160210T130000Z
SUMMARY:2016 Commencement Address
UID:1c354f49-bdc2-4566-b31f-87c0c996197e
URL:https://slll.cass.anu.edu.au/events/2016-commencement-address
END:VEVENT
END:VCALENDAR
