BEGIN:VCALENDAR
VERSION:2.0
METHOD:PUBLISH
X-WR-CALNAME;VALUE=TEXT:
PRODID:-//Drupal iCal API//EN
BEGIN:VEVENT
2016-02-16 06:00:00 AEDT
2016-02-16 10:00:00 AEDT
DTSTART:20160215T190000Z
DTEND:20160215T230000Z
SUMMARY:Launch of 2016 Hispanic Film Festival
UID:50036ddf-ec98-467a-9515-9895be6fdb3e
URL:https://slll.cass.anu.edu.au/events/launch-2016-hispanic-film-festival
END:VEVENT
END:VCALENDAR
