BEGIN:VCALENDAR
VERSION:2.0
METHOD:PUBLISH
X-WR-CALNAME;VALUE=TEXT:
PRODID:-//Drupal iCal API//EN
BEGIN:VEVENT
2016-03-03 12:00:00 AEDT
2016-03-03 01:30:00 AEDT
DTSTART:20160302T130000Z
DTEND:20160302T143000Z
SUMMARY:Launch of the Austkin Online Database
UID:d9a9e659-3c73-45c4-94a1-50cfb14c6e76
URL:https://slll.cass.anu.edu.au/events/launch-austkin-online-database
END:VEVENT
END:VCALENDAR
