BEGIN:VCALENDAR
VERSION:2.0
METHOD:PUBLISH
X-WR-CALNAME;VALUE=TEXT:
PRODID:-//Drupal iCal API//EN
BEGIN:VEVENT
2016-03-09 06:30:00 AEDT
2016-03-09 08:00:00 AEDT
DTSTART:20160308T193000Z
DTEND:20160308T210000Z
SUMMARY:Book Launch: &#039;Art and Human Rights: Contemporary Asian Contexts&#039;
UID:e0ebef2c-68c3-40dd-a354-cf546a99f47b
URL:https://slll.cass.anu.edu.au/events/book-launch-art-and-human-rights-contemporary-asian-contexts
END:VEVENT
END:VCALENDAR
