BEGIN:VCALENDAR
VERSION:2.0
METHOD:PUBLISH
X-WR-CALNAME;VALUE=TEXT:
PRODID:-//Drupal iCal API//EN
BEGIN:VEVENT
2016-03-24 02:00:00 AEDT
2016-03-24 03:30:00 AEDT
DTSTART:20160323T150000Z
DTEND:20160323T163000Z
SUMMARY:Conversations across the Creek
UID:f3cdac03-64ca-41b9-8d53-00898c731b35
URL:https://slll.cass.anu.edu.au/events/conversations-across-creek-1
END:VEVENT
END:VCALENDAR
