BEGIN:VCALENDAR
VERSION:2.0
METHOD:PUBLISH
X-WR-CALNAME;VALUE=TEXT:
PRODID:-//Drupal iCal API//EN
BEGIN:VEVENT
2016-03-16 02:00:00 AEDT
2016-03-16 03:00:00 AEDT
DTSTART:20160315T150000Z
DTEND:20160315T160000Z
SUMMARY:Information Session: Language Assistants Program in Spain 2016-1017
UID:747b5ec0-a3a1-48aa-91d7-142d1602a712
URL:https://slll.cass.anu.edu.au/events/information-session-language-assistants-program-spain-2016-1017
END:VEVENT
END:VCALENDAR
