BEGIN:VCALENDAR
VERSION:2.0
METHOD:PUBLISH
X-WR-CALNAME;VALUE=TEXT:
PRODID:-//Drupal iCal API//EN
BEGIN:VEVENT
2016-03-29 05:15:00 AEDT
2016-03-29 06:30:00 AEDT
DTSTART:20160328T181500Z
DTEND:20160328T193000Z
SUMMARY:Female Leadership in Popular Culture: The Case of Borgen
UID:7bff52e4-801a-45da-85c1-0ca1450ac598
URL:https://slll.cass.anu.edu.au/events/female-leadership-popular-culture-case-borgen
END:VEVENT
END:VCALENDAR
