BEGIN:VCALENDAR
VERSION:2.0
METHOD:PUBLISH
X-WR-CALNAME;VALUE=TEXT:
PRODID:-//Drupal iCal API//EN
BEGIN:VEVENT
2016-04-22 02:00:00 AEST
2016-04-22 03:30:00 AEST
DTSTART:20160421T160000Z
DTEND:20160421T173000Z
SUMMARY:Conversations Across the Creek
UID:c7da663d-eb88-471a-832a-7032266c5cc5
URL:https://slll.cass.anu.edu.au/events/conversations-across-creek-0
END:VEVENT
END:VCALENDAR
