BEGIN:VCALENDAR
VERSION:2.0
METHOD:PUBLISH
X-WR-CALNAME;VALUE=TEXT:
PRODID:-//Drupal iCal API//EN
BEGIN:VEVENT
2016-04-29 05:30:00 AEST
2016-04-29 06:30:00 AEST
DTSTART:20160428T193000Z
DTEND:20160428T203000Z
SUMMARY:Form-Meaning Relations in Developing Linguistic Knowledge and Language Use
UID:16210655-ba68-4ab6-b6de-00fa61614b05
URL:https://slll.cass.anu.edu.au/events/form-meaning-relations-developing-linguistic-knowledge-and-language-use
END:VEVENT
END:VCALENDAR
