BEGIN:VCALENDAR
VERSION:2.0
METHOD:PUBLISH
X-WR-CALNAME;VALUE=TEXT:
PRODID:-//Drupal iCal API//EN
BEGIN:VEVENT
2016-05-16 05:00:00 AEST
2016-05-16 07:00:00 AEST
DTSTART:20160515T190000Z
DTEND:20160515T210000Z
SUMMARY:Topics in Epistemology: Pre-conference presentations
UID:c5388446-c160-4c9e-8ca5-77df1e8a1b41
URL:https://slll.cass.anu.edu.au/events/topics-epistemology-pre-conference-presentations
END:VEVENT
END:VCALENDAR
