BEGIN:VCALENDAR
VERSION:2.0
METHOD:PUBLISH
X-WR-CALNAME;VALUE=TEXT:
PRODID:-//Drupal iCal API//EN
BEGIN:VEVENT
2016-05-10 06:15:00 AEST
2016-05-10 07:30:00 AEST
DTSTART:20160509T201500Z
DTEND:20160509T213000Z
SUMMARY:&#039;Repaying the debts of the dead&#039;: Kinship, microfinance, and mortuary practice on the Paraguayan frontier
UID:a647c7e4-f102-4bd0-9a87-63e68225e181
URL:https://slll.cass.anu.edu.au/events/repaying-debts-dead-kinship-microfinance-and-mortuary-practice-paraguayan-frontier
END:VEVENT
END:VCALENDAR
