BEGIN:VCALENDAR
VERSION:2.0
METHOD:PUBLISH
X-WR-CALNAME;VALUE=TEXT:
PRODID:-//Drupal iCal API//EN
BEGIN:VEVENT
2016-05-20 02:00:00 AEST
2016-05-20 03:30:00 AEST
DTSTART:20160519T160000Z
DTEND:20160519T173000Z
SUMMARY:Conversations Across the Creek
UID:2f003759-59f1-41b9-a4ad-139377a03495
URL:https://slll.cass.anu.edu.au/events/conversations-across-creek
END:VEVENT
END:VCALENDAR
