BEGIN:VCALENDAR
VERSION:2.0
METHOD:PUBLISH
X-WR-CALNAME;VALUE=TEXT:
PRODID:-//Drupal iCal API//EN
BEGIN:VEVENT
2016-07-21 03:00:00 AEST
2016-07-21 04:00:00 AEST
DTSTART:20160720T170000Z
DTEND:20160720T180000Z
SUMMARY:Neoliberalism’s Demons
UID:8a82eb69-e187-42f0-8d37-943d6aecad71
URL:https://slll.cass.anu.edu.au/events/neoliberalism-s-demons
END:VEVENT
END:VCALENDAR
