BEGIN:VCALENDAR
VERSION:2.0
METHOD:PUBLISH
X-WR-CALNAME;VALUE=TEXT:
PRODID:-//Drupal iCal API//EN
BEGIN:VEVENT
2016-08-18 03:00:00 AEST
2016-08-18 04:00:00 AEST
DTSTART:20160817T170000Z
DTEND:20160817T180000Z
SUMMARY:Under a cloud of narrative: Topic modelling Patrick White
UID:8a645b9b-c415-4a6f-be91-d0c67cee9a58
URL:https://slll.cass.anu.edu.au/events/under-cloud-narrative-topic-modelling-patrick-white
END:VEVENT
END:VCALENDAR
