BEGIN:VCALENDAR
VERSION:2.0
METHOD:PUBLISH
X-WR-CALNAME;VALUE=TEXT:
PRODID:-//Drupal iCal API//EN
BEGIN:VEVENT
2016-10-21 01:00:00 AEDT
2016-10-21 02:30:00 AEDT
DTSTART:20161020T140000Z
DTEND:20161020T153000Z
SUMMARY:Conversations Across the Creek: Evolution
UID:65f07e75-0e3d-4f89-bdc0-3847a1a7d20a
URL:https://slll.cass.anu.edu.au/events/conversations-across-creek-evolution
END:VEVENT
END:VCALENDAR
